Workbook

Sheet прил.1
C1: Приложение №1
C2: к решению Совета местного самоуправления
C3: городского округа Нальчик "О внесении изменений
C4: в решение Совета местного самоуправления городского округа
C5: Нальчик от 25.12.2018г. №191 "О местном бюджете городского
C6: округа Нальчик на 2019 год и на плановый период 2020 и 2021 годов"
C7: от "13 " декабря 2019г. №277
A10: ГЛАВНЫЕ АДМИНИСТРАТОРЫ ДОХОДОВ
A11: МЕСТНОГО БЮДЖЕТА - ОРГАНЫ МЕСТНОГО САМОУПРАВЛЕНИЯ
A12: ГОРОДСКОГО ОКРУГА НАЛЬЧИК
A15: Код бюджетной классификации Российской Федерации | C15: Наименование главного администратора поступлений и вида доходов местного бюджета
A16: главного админи- стратора доходов | B16: доходов местного бюджета
A17: 1 | B17: 2 | C17: 3
A18: 803 | C18: Местная администрация городского округа Нальчик
A19: 803 | B19: 1 08 07150 01 1000 110 | C19: Государственная пошлина за выдачу разрешения на установку рекламной конструкции
A20: 803 | B20: 1 08 07150 01 4000 110 | C20: Государственная пошлина за выдачу разрешения на установку рекламной конструкции
A21: 803 | B21: 1 13 01994 04 0000 130 | C21: Прочие доходы от оказания платных услуг (работ) получателям средств бюджетов городских округов
A22: 803 | B22: 1 13 02994 04 0000 130 | C22: Прочие доходы от компенсации затрат бюджетов городских округов
A23: 803 | B23: 1 16 90040 04 0000 140 | C23: Прочие поступления от денежных взысканий (штрафов) и иных сумм в возмещение ущерба, зачисляемые в бюджеты городских округов
A24: 803 | B24: 1 17 01040 04 0000 180 | C24: Невыясненные поступления, зачисляемые в бюджеты городских округов
A25: 803 | B25: 1 17 05040 04 0000 180 | C25: Прочие неналоговые доходы бюджетов городских округов
A26: 803 | B26: 2 02 25497 04 0000 150 | C26: Субсидии бюджетам городских округов на реализацию мероприятий по обеспечению жильем молодых семей
A27: 803 | B27: 2 02 30024 04 7009 150 | C27: Субвенции бюджетам городских округов на выполнение передаваемых полномочий субъектов Российской Федерации (ежемесячные денежные выплаты опекунам (попечителям), приемным родителям на содержание детей-сирот и детей, оставшихся без попечения родителей, а также на оплату труда приемных родителей)
A28: 803 | B28: 2 02 30024 04 7010 150 | C28: Субвенции бюджетам городских округов на выполнение передаваемых полномочий субъектов Российской Федерации (содержание территориальных отделов опеки и попечительства)
A29: 803 | B29: 2 02 30024 04 7011 150 | C29: Субвенции бюджетам городских округов на выполнение передаваемых полномочий субъектов Российской Федерации (осуществление полномочий по образованию и организации деятельности комиссий по делам несовершеннолетних и защите их прав)
A30: 803 | B30: 2 02 30024 04 7019 150 | C30: Субвенции бюджетам городских округов на выполнение передаваемых полномочий субъектов Российской Федерации (ежемесячные денежные выплаты на оплату труда приемных родителей)
... A36: 803 | B36: 2 19 60010 04 0000 150 | C36: Возврат прочих остатков субсидий, субвенций и иных межбюджетных трансфертов, имеющих целевое назначение, прошлых лет из бюджетов городских округов
A37: 805 | C37: Контрольно-счетная палата городского округа Нальчик
A38: 805 | B38: 1 16 18040 04 0000 140 | C38: Денежные взыскания (штрафы) за нарушение бюджетного законодательства (в части бюджетов городских округов)
A39: 805 | B39: 1 16 90040 04 0000 140 | C39: Прочие поступления от денежных взысканий (штрафов) и иных сумм в возмещение ущерба, зачисляемые в бюджеты городских округов
A40: 810 | C40: Муниципальное казенное учреждение "Управление жилищно-коммунального хозяйства и благоустройства-служба заказчика" Местной администрации городского округа Нальчик"
A41: 810 | B41: 1 13 01994 04 0000 130 | C41: Прочие доходы от оказания платных услуг (работ) получателям средств бюджетов городских округов
A42: 810 | B42: 1 13 02994 04 0000 130 | C42: Прочие доходы от компенсации затрат бюджетов городских округов
A43: 810 | B43: 1 13 02994 04 0022 130 | C43: Прочие доходы от компенсации затрат бюджетов городских округов
A44: 810 | B44: 1 16 46000 04 0000 140 | C44: Поступления сумм в возмещение ущерба в связи с нарушением исполнителем (подрядчиком) условий государственных контрактов или иных договоров, финансируемых за счет средств муниципальных дорожных фондов городских округов, либо в связи с уклонением от заключения таких контрактов или иных договоров
A45: 810 | B45: 1 16 90040 04 0000 140 | C45: Прочие поступления от денежных взысканий (штрафов) и иных сумм в возмещение ущерба, зачисляемые в бюджеты городских округов
A46: 810 | B46: 1 17 01040 04 0000 180 | C46: Невыясненные поступления, зачисляемые в бюджеты городских округов
A47: 810 | B47: 1 17 14020 04 0000 150 | C47: Средства самообложения граждан, зачисляемые в бюджеты городских округов
A48: 810 | B48: 2 02 20077 04 7051 150 | C48: Субсидии бюджетам городских округов на софинансирование капитальных вложений в объекты государственной (муниципальной) собственности (поддержка муниципальных программ по обеспечению благоустроенными жилыми помещениями семей, проживающих в многоквартирных домах коммунального типа)
A49: 810 | B49: 2 02 20077 04 7126 150 | C49: Субсидии бюджетам муниципальных образований на реализацию муниципальных программ в области жилищно-коммунального хозяйства
...

Sheet прил. 2
C1: Приложение №2
C2: к решению Совета местного самоуправления
C3: городского округа Нальчик "О внесении изменений
C4: в решение Совета местного самоуправления городского округа
C5: Нальчик от 25.12.2018г. №191 "О местном бюджете городского
C6: округа Нальчик на 2019 год и на плановый период 2020 и 2021 годов"
C7: от " 13 " декабря 2019г. №277
A9: ГЛАВНЫЕ АДМИНИСТРАТОРЫ ДОХОДОВ МЕСТНОГО БЮДЖЕТА -
A10: ТЕРРИТОРИАЛЬНЫЕ ОРГАНЫ ФЕДЕРАЛЬНЫХ ОРГАНОВ
A11: ИСПОЛНИТЕЛЬНОЙ ВЛАСТИ
A12: ПО КАБАРДИНО-БАЛКАРСКОЙ РЕСПУБЛИКЕ,
A13: ОРГАНЫ ГОСУДАРСТВЕННОЙ ВЛАСТИ
A14: КАБАРДИНО-БАЛКАРСКОЙ РЕСПУБЛИКИ
A16: Код бюджетной классификации Российской Федерации | C16: Наименование главного администратора поступлений и вида доходов местного бюджета
A17: главного админи- стратора доходов | B17: доходов местного бюджета
A18: 1 | B18: 2 | C18: 3
A19: 048 | C19: Управление Федеральной службы по надзору в сфере природопользования по Кабардино-Балкарской Республике
A20: 048 | B20: 1 12 01010 01 2100 120 | C20: Плата за выбросы загрязняющих веществ в атмосферный воздух стационарными объектами
A21: 048 | B21: 1 12 01010 01 6000 120 | C21: Плата за выбросы загрязняющих веществ в атмосферный воздух стационарными объектами (федеральные государственные органы, Банк России, органы управления государственными внебюджетными фондами Российской Федерации)
A22: 048 | B22: 1 12 01030 01 2100 120 | C22: Плата за сбросы загрязняющих веществ в водные объекты ( пени по соответствующему платежу)
A23: 048 | B23: 1 12 01030 01 6000 120 | C23: Плата за сбросы загрязняющих веществ в водные объекты
A24: 048 | B24: 1 12 01041 01 6000 120 | C24: Плата за размещение отходов производства (федеральные государственные органы, Банк России, органы управления государственными внебюджетными фондами Российской Федерации)
A25: 048 | B25: 1 12 01042 01 6000 120 | C25: Плата за размещение твердых коммунальных отходов (федеральные государственные органы, Банк России, органы управления государственными внебюджетными фондами Российской Федерации)
A26: 048 | B26: 1 12 01070 01 6000 120 | C26: Плата за выбросы загрязняющих веществ, образующихся при сжигании на факельных установках и (или) рассеивании попутного нефтяного газа
A27: 048 | B27: 1 16 25010 01 6000 140 | C27: Денежные взыскания (штрафы) за нарушение законодательства о недрах
A28: 048 | B28: 1 16 25020 01 6000 140 | C28: Денежные взыскания (штрафы) за нарушение законодательства Российской Федерации об особо охраняемых природных территориях
A29: 048 | B29: 1 16 25040 01 6000 140 | C29: Денежные взыскания (штрафы) за нарушение законодательства Российской Федерации об экологической экспертизе
A30: 048 | B30: 1 16 25050 01 6000 140 | C30: Денежные взыскания (штрафы) за нарушение законодательства в области охраны окружающей среды
A31: 048 | B31: 1 16 25060 01 6000 140 | C31: Денежные взыскания (штрафы) за нарушение земельного законодательства
A32: 048 | B32: 1 16 43000 01 0000 140 | C32: Денежные взыскания (штрафы) за нарушение законодательства Российской Федерации об административных правонарушениях, предусмотренные статьей 20.25 Кодекса Российской Федерации об административных правонарушениях
A33: 060 | C33: Территориальный орган Федеральной службы по надзору в сфере здравоохранения по Кабардино-Балкарской Республике
A34: 060 | B34: 1 16 90040 04 6000 140 | C34: Прочие поступления от денежных взысканий (штрафов) и иных сумм в возмещение ущерба, зачисляемые в бюджеты городских округов
A35: 076 | C35: Западно-Каспийское территориальное управление федерального агентства по рыболовству
A36: 076 | B36: 1 16 25030 01 6000 140 | C36: Денежные взыскания (штрафы) за нарушение законодательства Российской Федерации об охране и использовании животного мира
A37: 076 | B37: 1 16 43000 01 6000 140 | C37: Денежные взыскания (штрафы) за нарушение законодательства Российской Федерации об административных правонарушениях, предусмотренные статьей 20.25 Кодекса Российской Федерации об административных правонарушениях
A38: 076 | B38: 1 16 90040 04 6000 140 | C38: Прочие поступления от денежных взысканий (штрафов) и иных сумм в возмещение ущерба, зачисляемые в бюджеты городских округов
A39: 081 | C39: Управление Федеральной службы по ветеринарному и фитосанитарному надзору по Кабардино-Балкарской Республике
A40: 081 | B40: 1 16 25060 01 6000 140 | C40: Денежные взыскания (штрафы) за нарушение земельного законодательства
A41: 081 | B41: 1 16 43000 01 6000 140 | C41: Денежные взыскания (штрафы) за нарушение законодательства Российской Федерации об административных правонарушениях, предусмотренные статьей 20.25 Кодекса Российской Федерации об административных правонарушениях
A42: 081 | B42: 1 16 90040 04 6000 140 | C42: Прочие поступления от денежных взысканий (штрафов) и иных сумм в возмещение ущерба, зачисляемые в бюджеты городских округов
...

Sheet прил.3
E1: Приложение №3
E2: к решению Совета местного самоуправления
E3: городского округа Нальчик "О внесении изменений
E4: в решение Совета местного самоуправления городского округа
E5: Нальчик от 25.12.2018г. №191 "О местном бюджете городского
E6: округа Нальчик на 2019 год и на плановый период 2020 и 2021 годов"
E7: от " 13 " декабря 2019г. № 277
A9: ПРОГНОЗ
A10: ПОСТУПЛЕНИЯ ДОХОДОВ В МЕСТНЫЙ БЮДЖЕТ
A11: НА 2019 ГОД И НА ПЛАНОВЫЙ ПЕРИОД 2020 И 2021 ГОДЫ
D13: ( в тыс. руб.)
A14: Код доходов бюджетной классификации Российской Федерации | B14: Наименование кода доходов | C14: 2019 год | D14: 2020 год | E14: 2021 год
A15: 1 | B15: 2 | C15: 3 | D15: 4 | E15: 5
A16: 1 00 00000 00 0000 000 | B16: Налоговые и неналоговые доходы | C16: =C17+C18+C21+C22+C23+C24+C25+C26+C27 -> 1723488.9 | D16: =D17+D18+D21+D22+D23+D24+D25+D26+D27 -> 1789691.4 | E16: =E17+E18+E21+E22+E23+E24+E25+E26+E27 -> 1859199.1
A17: 1 01 02000 01 0000 110 | B17: Налог на доходы физических лиц | C17: 970330.1 | D17: 1018134.8 | E17: 1058860.2
A18: 1 03 00000 00 0000 000 | B18: Налоги на товары (работы, услуги), реализуемые на территории Российской Федерации | C18: =C20 -> 14330.7 | D18: =D20 -> 14330.7 | E18: =E20 -> 14903.9
B19: в том числе:
A20: 1 03 02230 01 0000 110 1 03 02240 01 0000 110 1 03 02250 01 0000 110 1 03 02260 01 0000 110 | B20: Акцизы на нефтепродукты, производимым на территории Российской Федерации | C20: 14330.7 | D20: 14330.7 | E20: 14903.9
A21: 1 05 02010 02 0000 110 | B21: Единый налог на вмененный доход для отдельных видов деятельности | C21: 70000 | D21: 65000 | E21: 67600
A22: 1 05 03010 01 0000 110 | B22: Единый сельскохозяйственный налог | C22: 4198 | D22: 3000 | E22: 3120
A23: 1 05 04010 02 0000 110 | B23: Налог, взимаемый в связи с применением патентной системы налогообложения, зачисляемый в бюджеты городских округов | C23: 4742 | D23: 5000 | E23: 5200
A24: 1 06 01020 04 0000 110 | B24: Налог на имущество физических лиц, взимаемый по ставкам, применяемым к объектам налогообложения, расположенным в границах городских округов | C24: 22500 | D24: 35000 | E24: 36400
A25: 1 06 06032 04 0000 110 | B25: Земельный налог с организаций, обладающих земельным участком, расположенным в границах городских округов | C25: 108810.2 | D25: 114000 | E25: 118560
A26: 1 06 06042 04 0000 110 | B26: Земельный налог с физических лиц, обладающих земельным участком, расположенным в границах городских округов | C26: 14837.8 | D26: 16000 | E26: 16640
B27: Иные налоговые и неналоговые доходы | C27: =513299.1+441 -> 513740.1 | D27: 519225.9 | E27: 537915
A28: 2 00 00000 00 0000 000 | B28: Безвозмездные поступления | C28: =C29+C36+C37 -> 2539632.6 | D28: =D29+D36+D37 -> 2227059.2 | E28: =E29+E36+E37 -> 2219009.5
A29: 2 02 00000 00 0000 000 | B29: Безвозмездные поступления от других бюджетов бюджетной системы Российской Федерации | C29: =SUM(C30+C31+C32+C33) -> 2539090.4 | D29: =D30+D31+D32+D33 -> 2227059.2 | E29: =E30+E31+E32+E33 -> 2219009.5
A30: 2 02 10000 00 0000 150 | B30: Дотации бюджетам бюджетной системы Российской Федерации | C30: 12232.1 | D30: 0 | E30: 0
A31: 2 02 20000 00 0000 150 | B31: Субсидии бюджетам бюджетной системы Российской Федерации (межбюджетные субсидии) | C31: 313640.6 | D31: 485493.5 | E31: 473045.1
A32: 2 02 30000 00 0000 150 | B32: Субвенции бюджетам бюджетной системы Российской Федерации | C32: 1779799.8 | D32: 1740139.6 | E32: 1744538.3
A33: 2 02 40000 00 0000 150 | B33: Иные межбюджетные трансферты | C33: =C34+C35 -> 433417.9 | D33: =D34+D35 -> 1426.1 | E33: =E34+E35 -> 1426.1
A34: 2 02 45393 04 0000 150 | B34: Межбюджетные трансферты, передаваемые бюджетам городских округов на финансовое обеспечение дорожной деятельности в рамках реализации национального проекта "Безопасные и качественные автомобильные дороги" | C34: 432000 | D34: 0 | E34: 0
A35: 2 02 49999 04 7202 150 | B35: Прочие межбюджетные трансферты, передаваемые бюджетам городских округов (отдых детей в каникулярное время в лагерях с дневным пребыванием) | C35: 1417.9 | D35: 1426.1 | E35: 1426.1
A36: 2 04 04020 04 0000 150 | B36: Безвозмездные поступления от негосударственных организаций в бюджеты городских округов | C36: 0 | D36: 0 | E36: 0
A37: 2 07 04020 04 0000 150 | B37: Поступления от денежных пожертвований, предоставляемых физическими лицами получателям средств бюджетов городских округов | C37: 542.2 | D37: 0 | E37: 0
A38: И Т О Г О Д О Х О Д О В: | C38: =C16+C28 -> 4263121.5 | D38: =D16+D28 -> 4016750.6 | E38: =E16+E28 -> 4078208.6
A41: Заместитель Главы городского округа Нальчик-
A42: заместитель Председателя Совета местного самоуправления
A43: городского округа Нальчик В.Б.Назранов

Sheet прил.4
I1: Приложение № 4
I2: к решению Совета местного самоуправления
I3: городского округа Нальчик "О внесении изменений
I4: в решение Совета местного самоуправления городского округа
I5: Нальчик от 25.12.2018г. №191 "О местном бюджете городского
I6: округа Нальчик на 2019 год и на плановый период 2020 и 2021 годов"
I7: от " 13 " декабря 2019г. №277
A9: ВЕДОМСТВЕННАЯ СТРУКТУРА РАСХОДОВ
A10: МЕСТНОГО БЮДЖЕТА НА 2019 ГОД И НА ПЛАНОВЫЙ ПЕРИОД НА 2020 и 2021 ГОДОВ
I12: (в тыс. рублей)
A13: Наименование показателя | B13: Коды бюджетной классификации Российской Федерации | G13: 2019 год | H13: 2020 год | I13: 2021 год
B14: Код главного распорядителя бюджетных средств | C14: Раздел | D14: Под-раздел | E14: Целевая статья | F14: Вид рас-хода
A15: 1 | B15: 2 | C15: 3 | D15: 4 | E15: 5 | F15: 6 | G15: 7 | H15: 8 | I15: 9
A16: УСЛОВНО УТВЕРЖДЕННЫЕ РАСХОДЫ | B16: 000 | G16: =G17 -> 0 | H16: =H17 -> 42750 | I16: =I17 -> 78720
A17: Условно утвержденные расходы | C17: 99 | G17: =G18 -> 0 | H17: =H18 -> 42750 | I17: =I18 -> 78720
A18: Условно утвержденные расходы | C18: 99 | D18: 99 | G18: =G19 -> 0 | H18: =H19 -> 42750 | I18: =I19 -> 78720
A19: Условно утвержденные расходы | C19: 99 | D19: 99 | E19: 9999999999 | G19: =G20 -> 0 | H19: =H20 -> 42750 | I19: =I20 -> 78720
A20: Иные бюджетные ассигнования | C20: 99 | D20: 99 | E20: 9999999999 | F20: 800 | G20: 0 | H20: 42750 | I20: =46532+32188 -> 78720
A21: МЕСТНАЯ АДМИНИСТРАЦИЯ ГОРОДСКОГО ОКРУГА НАЛЬЧИК | B21: 803 | G21: =G22+G53+G66+G74+G86+G94+G114 -> 363841.8 | H21: =H22+H53+H66+H74+H86+H94+H114 -> 319521.3 | I21: =I22+I53+I66+I74+I86+I94+I114 -> 271794.6
A22: ОБЩЕГОСУДАРСТВЕННЫЕ ВОПРОСЫ | C22: 01 | D22: 00 | G22: =G23+G30 -> 140429.5 | H22: =H23+H30 -> 147065.2 | I22: =I23+I30 -> 146932.1
A23: Функционирование Правительства Российской Федерации, высших исполнительных органов государственной власти субъектов Российской Федерации, местных администраций | C23: 01 | D23: 04 | G23: =G24+G26 -> 137384.9 | H23: =H24+H26 -> 145171.4 | I23: =I24+I26 -> 145171.4
A24: Расходы на обеспечение функционирования Главы местной администрации городского округа Нальчик в рамках непрограммных направлений деятельности органов местного самоуправления городского округа Нальчик и муниципальных учреждений городского округа Нальчик | C24: 01 | D24: 04 | E24: 7810090019 | G24: =G25 -> 7826.6 | H24: =H25 -> 7925.9 | I24: =I25 -> 7925.9
A25: Расходы на выплаты персоналу в целях обеспечения выполнения функций государственными (муниципальными) органами, казенными учреждениями, органами управления государственными внебюджетными фондами | C25: 01 | D25: 04 | E25: 7810090019 | F25: 100 | G25: 7826.6 | H25: 7925.9 | I25: =H25 -> 7925.9
A26: Расходы на обеспечение функционирования аппарата Местной администрации городского округа Нальчик, ее территориальных органов, в рамках непрограммных направлений деятельности органов местного самоуправления городского округа Нальчик и муниципальных учреждений городского округа Нальчик | C26: 01 | D26: 04 | E26: 7820090019 | G26: =SUM(G27:G29) -> 129558.3 | H26: =SUM(H27:H29) -> 137245.5 | I26: =SUM(I27:I29) -> 137245.5
A27: Расходы на выплаты персоналу в целях обеспечения выполнения функций государственными (муниципальными) органами, казенными учреждениями, органами управления государственными внебюджетными фондами | C27: 01 | D27: 04 | E27: 7820090019 | F27: 100 | G27: 103803.4 | H27: 110555.3 | I27: =H27 -> 110555.3
A28: Закупка товаров, работ и услуг для государственных (муниципальных) нужд | C28: 01 | D28: 04 | E28: 7820090019 | F28: 200 | G28: 23207.8 | H28: 25090.2 | I28: =H28 -> 25090.2
A29: Иные бюджетные ассигнования | C29: 01 | D29: 04 | E29: 7820090019 | F29: 800 | G29: 2547.1 | H29: 1600 | I29: =H29 -> 1600
A30: Другие общегосударственные вопросы | C30: 01 | D30: 13 | G30: =G43+G45+G40+G37+G34+G49+G47+G31+G51 -> 3044.6 | H30: =H43+H45+H40+H37+H34+H49+H47+H31+H51 -> 1893.8 | I30: =I43+I45+I40+I37+I34+I49+I47+I31+I51 -> 1760.7
A31: Муниципальная программа "Профилактика терроризма и экстремизма в городском округе Нальчик на 2017 - 2021 годы" | C31: 01 | D31: 13 | E31: 02401М5160 | G31: =G32 -> 0 | H31: =H32 -> 150 | I31: =I32 -> 150
A32: Реализация мероприятий муниципальной программы "Профилактика терроризма и экстремизма в городском округе Нальчик на 2017 - 2021 годы" | C32: 01 | D32: 13 | E32: 02401М5160 | G32: =G33 -> 0 | H32: =H33 -> 150 | I32: =I33 -> 150
A33: Закупка товаров, работ и услуг для государственных (муниципальных) нужд | C33: 01 | D33: 13 | E33: 02401М5160 | F33: 200 | G33: 0 | H33: 150 | I33: 150
A34: Муниципальная программа "Профилактика правонарушений в городском округе Нальчик на 2017 - 2021 годы" | C34: 01 | D34: 13 | E34: 02401М9000 | G34: =G35 -> 10 | H34: =H35 -> 10 | I34: =I35 -> 10
A35: Реализация мероприятий муниципальной программы "Профилактика правонарушений в городском округе Нальчик на 2017 - 2021 годы" | C35: 01 | D35: 13 | E35: 02401М9400 | G35: =G36 -> 10 | H35: =H36 -> 10 | I35: =I36 -> 10
A36: Закупка товаров, работ и услуг для государственных (муниципальных) нужд | C36: 01 | D36: 13 | E36: 02401М9400 | F36: 200 | G36: 10 | H36: 10 | I36: =H36 -> 10
A37: Муниципальная программа городского округа Нальчик "Доступная среда в городском округе Нальчик на 2016 - 2020 годы" | C37: 01 | D37: 13 | E37: 0410000000 | G37: =G38 -> 277.1 | H37: =H38 -> 134.1 | I37: =I38 -> 0
A38: Реализация мероприятий муниципальной программы городского округа Нальчик "Доступная среда в городском округе Нальчик на 2016 - 2020 годы" | C38: 01 | D38: 13 | E38: 0410299999 | G38: =G39 -> 277.1 | H38: =H39 -> 134.1 | I38: =I39 -> 0
A39: Закупка товаров, работ и услуг для государственных (муниципальных) нужд | C39: 01 | D39: 13 | E39: 0410299999 | F39: 200 | G39: 277.1 | H39: 134.1 | I39: 0
A40: Муниципальная программа "Противодействие коррупции в городском округе Нальчик" | C40: 01 | D40: 13 | E40: 1500000000 | G40: =G41 -> 100 | H40: =H41 -> 100 | I40: =I41 -> 100
A41: Реализация мероприятий программы | C41: 01 | D41: 13 | E41: 1540100000 | G41: =G42 -> 100 | H41: =H42 -> 100 | I41: =I42 -> 100
A42: Закупка товаров, работ и услуг для государственных (муниципальных) нужд | C42: 01 | D42: 13 | E42: 1540199998 | F42: 200 | G42: 100 | H42: 100 | I42: =H42 -> 100
...

Sheet прил.5
H1: Приложение № 5
H2: к решению Совета местного самоуправления
H3: городского округа Нальчик "О внесении изменений
H4: в решение Совета местного самоуправления городского округа
H5: Нальчик от 25.12.2018г. №191 "О местном бюджете городского
H6: округа Нальчик на 2019 год и на плановый период 2020 и 2021 годов"
H7: от "13 " декабря 2019г. № 277
A9: РАСПРЕДЕЛЕНИЕ БЮДЖЕТНЫХ АССИГНОВАНИЙ
A10: ПО РАЗДЕЛАМ, ПОДРАЗДЕЛАМ, ЦЕЛЕВЫМ СТАТЬЯМ И ВИДАМ РАСХОДОВ
A11: (МУНИЦИПАЛЬНЫМ ПРОГРАММАМ ГОРОДСКОГО ОКРУГА НАЛЬЧИК НЕПРОГРАММНЫМ
A12: НАПРАВЛЕНИЯМ ДЕЯТЕЛЬНОСТИ), ГРУППАМ ВИДОВ РАСХОДОВ
A13: КЛАССИФИКАЦИИ РАСХОДОВ МЕСТНОГО БЮЖЕТА
A14: НА 2019 ГОД И НА ПЛАНОВЫЙ ПЕРИОД 2020 И 2021 ГОДОВ
H16: (в тыс. рублей)
A17: Наименование показателя | B17: Коды бюджетной классификации Российской Федерации | F17: 2019 год | G17: 2020 год | H17: 2021 год
B18: Раздел | C18: Подраздел | D18: Целевая статья | E18: Группа видов расходов
A19: 1 | B19: 2 | C19: 3 | D19: 4 | E19: 5 | G19: 6 | H19: 7
A20: Условно утвержденные расходы | B20: 99 | F20: =F21 -> 0 | G20: =G21 -> 42750 | H20: =H21 -> 78720
A21: Условно утвержденные расходы | B21: 99 | C21: 99 | F21: =F22 -> 0 | G21: =G22 -> 42750 | H21: =H22 -> 78720
A22: Условно утвержденные расходы | B22: 99 | C22: 99 | D22: 9999999999 | F22: =F23 -> 0 | G22: =G23 -> 42750 | H22: =H23 -> 78720
A23: Иные бюджетные ассигнования | B23: 99 | C23: 99 | D23: 9999999999 | E23: 800 | F23: =прил.4!G20 -> 0 | G23: =прил.4!H20 -> 42750 | H23: =прил.4!I20 -> 78720
A24: ОБЩЕГОСУДАРСТВЕННЫЕ ВОПРОСЫ | B24: 01 | C24: 00 | F24: =F25+F30+F39+F48+F51 -> 224503.6 | G24: =G25+G30+G39+G48+G51 -> 252319.9 | H24: =H25+H30+H39+H48+H51 -> 241026.7
A25: Функционирование законодательных (представительных) органов государственной власти и представительных органов муниципальных образований | B25: 01 | C25: 03 | F25: =F26 -> 6675.7 | G25: =G26 -> 6967.1 | H25: =H26 -> 6967.1
A26: Расходы на обеспечение функционирования Совета местного самоуправления городского округа Нальчик в рамках непрограммных направлений деятельности органов местного самоуправления городского округа Нальчик и муниципальных учреждений городского округа Нальчик | B26: 01 | C26: 03 | D26: 9690090019 | F26: =SUM(F27:F29) -> 6675.7 | G26: =SUM(G27:G29) -> 6967.1 | H26: =SUM(H27:H29) -> 6967.1
A27: Расходы на выплаты персоналу в целях обеспечения выполнения функций государственными (муниципальными) органами, казенными учреждениями, органами управления государственными внебюджетными фондами | B27: 01 | C27: 03 | D27: 9690090019 | E27: 100 | F27: =прил.4!G197 -> 5919.8 | G27: =прил.4!H197 -> 6158.3 | H27: =прил.4!I197 -> 6158.3
A28: Закупка товаров, работ и услуг для государственных (муниципальных) нужд | B28: 01 | C28: 03 | D28: 9690090019 | E28: 200 | F28: =прил.4!G198 -> 755.4 | G28: =прил.4!H198 -> 793.8 | H28: =прил.4!I198 -> 793.8
A29: Иные бюджетные ассигнования | B29: 01 | C29: 03 | D29: 9690090019 | E29: 800 | F29: =прил.4!G199 -> 0.5 | G29: =прил.4!H199 -> 15 | H29: =прил.4!I199 -> 15
A30: Функционирование Правительства Российской Федерации, высших исполнительных органов государственной власти субъектов Российской Федерации, местных администраций | B30: 01 | C30: 04 | F30: =F31+F34 -> 137384.9 | G30: =G31+G34 -> 145171.4 | H30: =H31+H34 -> 145171.4
A31: Расходы на обеспечение функционирования Главы местной администрации городского округа Нальчик в рамках непрограммных направлений деятельности органов местного самоуправления городского округа Нальчик и муниципальных учреждений городского округа Нальчик | B31: 01 | C31: 04 | D31: 7810090019 | F31: =F32 -> 7826.6 | G31: =G32 -> 7925.9 | H31: =H32 -> 7925.9
A32: Расходы на выплаты персоналу в целях обеспечения выполнения функций государственными (муниципальными) органами, казенными учреждениями, органами управления государственными внебюджетными фондами | B32: 01 | C32: 04 | D32: 7810090019 | F32: =F33 -> 7826.6 | G32: =G33 -> 7925.9 | H32: =H33 -> 7925.9
A33: Расходы на выплаты персоналу в целях обеспечения выполнения функций государственными (муниципальными) органами, казенными учреждениями, органами управления государственными внебюджетными фондами | B33: 01 | C33: 04 | D33: 7810090019 | E33: 100 | F33: =прил.4!G25 -> 7826.6 | G33: =прил.4!H25 -> 7925.9 | H33: =прил.4!I25 -> 7925.9
A34: Обеспечение функционирования аппарата местной администрации | B34: 01 | C34: 04 | D34: 7820090019 | F34: =F35 -> 129558.3 | G34: =G35 -> 137245.5 | H34: =H35 -> 137245.5
A35: Расходы на обеспечение функций органов местного самоуправления | B35: 01 | C35: 04 | D35: 7820090019 | F35: =SUM(F36:F38) -> 129558.3 | G35: =SUM(G36:G38) -> 137245.5 | H35: =SUM(H36:H38) -> 137245.5
A36: Расходы на выплаты персоналу в целях обеспечения выполнения функций государственными (муниципальными) органами, казенными учреждениями, органами управления государственными внебюджетными фондами | B36: 01 | C36: 04 | D36: 7820090019 | E36: 100 | F36: =прил.4!G27 -> 103803.4 | G36: =прил.4!H27 -> 110555.3 | H36: =прил.4!I27 -> 110555.3
A37: Закупка товаров, работ и услуг для государственных (муниципальных) нужд | B37: 01 | C37: 04 | D37: 7820090019 | E37: 200 | F37: =прил.4!G28 -> 23207.8 | G37: =прил.4!H28 -> 25090.2 | H37: =прил.4!I28 -> 25090.2
A38: Иные бюджетные ассигнования | B38: 01 | C38: 04 | D38: 7820090019 | E38: 800 | F38: =прил.4!G29 -> 2547.1 | G38: =прил.4!H29 -> 1600 | H38: =прил.4!I29 -> 1600
A39: Обеспечение деятельности финансовых, налоговых и таможенных органов и органов финансового (финансово-бюджетного) надзора | B39: 01 | C39: 06 | F39: =F40+F44 -> 19599.8 | G39: =G40+G44 -> 20685.4 | H39: =H40+H44 -> 20685.4
A40: Расходы на обеспечение деятельности (оказание услуг) муниципальных органов (учреждений) в рамках подпрограммы "Обеспечение реализации муниципальной программы" муниципальной программы городского округа Нальчик "Управление муниципальными финансами в городском округе Нальчик" | B40: 01 | C40: 06 | D40: 3920490019 | F40: =SUM(F41:F43) -> 13582.4 | G40: =SUM(G41:G43) -> 14336.2 | H40: =SUM(H41:H43) -> 14336.2
A41: Расходы на выплаты персоналу в целях обеспечения выполнения функций государственными (муниципальными) органами, казенными учреждениями, органами управления государственными внебюджетными фондами | B41: 01 | C41: 06 | D41: 3920490019 | E41: 100 | F41: =прил.4!G381 -> 11998.3 | G41: =прил.4!H381 -> 12465.8 | H41: =прил.4!I381 -> 12465.8
A42: Закупка товаров, работ и услуг для государственных (муниципальных) нужд | B42: 01 | C42: 06 | D42: 3920490019 | E42: 200 | F42: =прил.4!G382 -> 1577.2 | G42: =прил.4!H382 -> 1870.4 | H42: =прил.4!I382 -> 1870.4
...

Sheet прил.6 
F1: Приложение № 6
F2: к решению Совета местного самоуправления
F3: городского округа Нальчик "О внесении изменений
F4: в решение Совета местного самоуправления городского округа
F5: Нальчик от 25.12.2018г. №191 "О местном бюджете городского
F6: округа Нальчик на 2019 год и на плановый период 2020 и 2021 годов"
F7: от "13 " декабря 2019г. № 277
A10: РАСПРЕДЕЛЕНИЕ БЮДЖЕТНЫХ АССИГНОВАНИЙ
A11: ПО ЦЕЛЕВЫМ СТАТЬЯМ (МУНИЦИПАЛЬНЫМ ПРОГРАММАМ
A12: ГОРОДСКОГО ОКРУГА НАЛЬЧИК И НЕПРОГРАММНЫМ НАПРАВЛЕНИЯМ
A13: ДЕЯТЕЛЬНОСТИ), ГРУППАМ ВИДОВ РАСХОДОВ КЛАССИФИКАЦИИ РАСХОДОВ
A14: МЕСТНОГО БЮДЖЕТА НА 2019 ГОД И НА ПЛАНОВЫЙ ПЕРИОД 2020 И 2021 ГОДОВ
F16: (в тыс. рублей)
A17: Наименование показателя | B17: Целевая статья | C17: Вид расхода | D17: 2019 год | E17: 2020 год | F17: 2021 год
A18: 1 | B18: 2 | C18: 3 | E18: 4 | F18: 5
A19: ВСЕГО | D19: =D21+D68+D73+D111+D123+D150+D169+D182+D187+D202+D212+D225+D20+D66+D64+D62 -> 4419486.8 | E19: =E21+E68+E73+E111+E123+E150+E169+E182+E187+E202+E212+E225+E20+E66+E64+E62 -> 4116750.6 | F19: =F21+F68+F73+F111+F123+F150+F169+F182+F187+F202+F212+F225+F20+F66+F64+F62 -> 3978208.6
A20: Условно утвержденные расходы | D20: =прил.5!F23 -> 0 | E20: =прил.5!G23 -> 42750 | F20: =прил.5!H23 -> 78720
A21: Муниципальная программа городского округа Нальчик "Развитие образования в городском округе Нальчик" | B21: 0200000000 | D21: =D22+D45+D57+D54 -> 2381377.9 | E21: =E22+E45+E57+E54 -> 2339425.1 | F21: =F22+F45+F57+F54 -> 2332582
A22: Подпрограмма "Развитие системы дошкольного и общего образования" муниципальной программы городского округа Нальчик "Развитие образования в городском округе Нальчик" | B22: 0220000000 | D22: =D23+D27+D31+D35+D37+D41+D43+D33+D25 -> 2237128.4 | E22: =E23+E27+E31+E35+E37+E41+E43+E33+E25 -> 2189774.2 | F22: =F23+F27+F31+F35+F37+F41+F43+F33+F25 -> 2182931.1
A23: Субвенции бюджетам муниципальных образований на обеспечение государственных гарантий прав граждан на получение общедоступного и бесплатного дошкольного, начального общего, основного общего, среднего (полного) общего образования, а также дополнительного образования в общеобразовательных учреждениях, в рамках подпрограммы "Содействие развитию дошкольного и общего образования" государственной программы Кабардино-Балкарской Республики "Развитие образования в Кабардино-Балкарской Республике" | B23: 0220170120 | D23: =D24 -> 717234.6 | E23: =E24 -> 710238.9 | F23: =F24 -> 710238.9
A24: Расходы на выплаты персоналу в целях обеспечения выполнения функций государственными (муниципальными) органами, казенными учреждениями, органами управления государственными внебюджетными фондами | B24: 0220170120 | C24: 100 | D24: =прил.4!G287 -> 717234.6 | E24: =прил.4!H287 -> 710238.9 | F24: =прил.4!I287 -> 710238.9
A25: Приобретение учебников, учебных и учебно-наглядных пособий, технических средств обучения, расходных материалов и хозяйственных нужд (кроме расходов на содержание зданий и помещений), за счет субвенции из республиканского бюджета Кабардино-Балкарской Республики, в рамках подпрограммы "Содействие развитию дошкольного и общего образования" государственной программы Кабардино-Балкарской Республики "Развитие образования в Кабардино-Балкарской Республике" | B25: 0220175190 | D25: =D26 -> 2468.1 | E25: =E26 -> 7781.2 | F25: =F26 -> 7781.2
A26: Закупка товаров, работ и услуг для государственных (муниципальных) нужд | B26: 0220175190 | C26: 200 | D26: =прил.4!G289 -> 2468.1 | E26: =прил.4!H289 -> 7781.2 | F26: =прил.4!I289 -> 7781.2
A27: Расходы на обеспечение деятельности (оказание услуг) муниципальных учреждений в рамках подпрограммы "Развитие системы дошкольного и общего образования" муниципальной программы городского округа Нальчик "Развитие образования в городском округе Нальчик" | B27: 0220190059 | D27: =SUM(D28:D30) -> 280142.4 | E27: =SUM(E28:E30) -> 317299.8 | F27: =SUM(F28:F30) -> 319267.4
A28: Расходы на выплаты персоналу в целях обеспечения выполнения функций государственными (муниципальными) органами, казенными учреждениями, органами управления государственными внебюджетными фондами | B28: 0220190059 | C28: 100 | D28: =прил.4!G291 -> 1601.9 | E28: =прил.4!H291 -> 0 | F28: =прил.4!I291 -> 0
A29: Закупка товаров, работ и услуг для государственных (муниципальных) нужд | B29: 0220190059 | C29: 200 | D29: =прил.4!G292 -> 265368.2 | E29: =прил.4!H292 -> 304051.3 | F29: =прил.4!I292 -> 306018.9
A30: Иные бюджетные ассигнования | B30: 0220190059 | C30: 800 | D30: =прил.4!G293 -> 13172.3 | E30: =прил.4!H293 -> 13248.5 | F30: =прил.4!I293 -> 13248.5
A31: Субвенции бюджетам муниципальных образований на обеспечение государственных гарантий прав граждан на получение общедоступного и бесплатного дошкольного, начального общего, основного общего, среднего (полного) общего образования, а также дополнительного образования в общеобразовательных учреждениях, в рамках подпрограммы "Содействие развитию дошкольного и общего образования" государственной программы Кабардино-Балкарской Республики "Развитие образования в Кабардино-Балкарской Республике" | B31: 0220270120 | D31: =D32 -> 946144.1 | E31: =E32 -> 955053 | F31: =F32 -> 955053
A32: Расходы на выплаты персоналу в целях обеспечения выполнения функций государственными (муниципальными) органами, казенными учреждениями, органами управления государственными внебюджетными фондами | B32: 0220270120 | C32: 100 | D32: =прил.4!G303 -> 946144.1 | E32: =прил.4!H303 -> 955053 | F32: =прил.4!I303 -> 955053
A33: Иные межбюджетные трансферты на финансовое обеспечение привлечения обучающихся к труду | B33: 0220271270 | D33: =D34 -> 8.3 | E33: =E34 -> 0 | F33: =F34 -> 0
A34: Расходы на выплаты персоналу в целях обеспечения выполнения функций государственными (муниципальными) органами, казенными учреждениями, органами управления государственными внебюджетными фондами | B34: 0220271270 | C34: 100 | D34: =прил.4!G305 -> 8.3 | E34: =прил.4!H305 -> 0 | F34: =прил.4!I305 -> 0
A35: Пополнение фондов школьных библиотек образовательных учреждений, за счет субвенции из республиканского бюджета Кабардино-Балкарской Республики, в рамках подпрограммы "Содействие развитию дошкольного и общего образования" государственной программы Кабардино-Балкарской Республики "Развитие образования в Кабардино-Балкарской Республике" | B35: 0220275190 | D35: =D36 -> 71764.3 | E35: =E36 -> 13665.2 | F35: =F36 -> 13665.2
A36: Закупка товаров, работ и услуг для государственных (муниципальных) нужд | B36: 0220275190 | C36: 200 | D36: =прил.4!G307 -> 71764.3 | E36: =прил.4!H307 -> 13665.2 | F36: =прил.4!I307 -> 13665.2
A37: Расходы на обеспечение деятельности (оказание услуг) муниципальных учреждений в рамках подпрограммы "Развитие системы дошкольного и общего образования" муниципальной программы городского округа Нальчик "Развитие образования в городском округе Нальчик" | B37: 0220290059 | D37: =SUM(D38:D40) -> 214693.4 | E37: =SUM(E38:E40) -> 181434.8 | F37: =SUM(F38:F40) -> 172624.1
A38: Расходы на выплаты персоналу в целях обеспечения выполнения функций государственными (муниципальными) органами, казенными учреждениями, органами управления государственными внебюджетными фондами | B38: 0220290059 | C38: 100 | D38: =прил.4!G309 -> 7227.2 | E38: =прил.4!H309 -> 0 | F38: =прил.4!I309 -> 0
A39: Закупка товаров, работ и услуг для государственных (муниципальных) нужд | B39: 0220290059 | C39: 200 | D39: =прил.4!G310 -> 183668.6 | E39: =прил.4!H310 -> 159667.8 | F39: =прил.4!I310 -> 150857.1
A40: Иные бюджетные ассигнования | B40: 0220290059 | C40: 800 | D40: =прил.4!G311 -> 23797.6 | E40: =прил.4!H311 -> 21767 | F40: =прил.4!I311 -> 21767
A41: Реализация мероприятий, направленных на развитие учительского потенциала и совершенствование учительского корпуса, стимулирование развития профессиональных компетентностей педагогических кадров" подпрограммы "Развитие системы дошкольного и общего образования" муниципальной программы городского округа Нальчик "Развитие образования в городском округе Нальчик" | B41: 0220300000 | D41: =D42 -> 3461.9 | E41: =E42 -> 3461.9 | F41: =F42 -> 3461.9
A42: Закупка товаров, работ и услуг для государственных (муниципальных) нужд | B42: 0220370880 | C42: 200 | D42: =прил.4!G332 -> 3461.9 | E42: =прил.4!H332 -> 3461.9 | F42: =прил.4!I332 -> 3461.9
A43: Субсидии на создание в общеобразовательных организациях, расположенных в сельской местности, условий для занятия физической культурой и спортом | B43: 022Е250970 | D43: =D44 -> 1211.3 | E43: =E44 -> 839.4 | F43: =F44 -> 839.4
...

Sheet Отраслевая 2015-2016
E1: Приложение № 4
A2: к решению Совета местного самоуправления
B3: городского округа Нальчик "О местном бюджете
B4: городского округа Нальчик на 2014 год и на
B5: плановый период 2015 и 2016 годов"
D6: №164 от "27" декабря 2013г.
A7: РАСПРЕДЕЛЕНИЕ
A8: БЮДЖЕТНЫХ АССИГНОВАНИЙ НА ПЛАНОВЫЙ ПЕРИОД 2015 И 2016 ГОДОВ ПО РАЗДЕЛАМ, ПОДРАЗДЕЛАМ, ЦЕЛЕВЫМ СТАТЬЯМ И ВИДАМ РАСХОДОВ КЛАССИФИКАЦИИ РАСХОДОВ МЕСТНОГО БЮДЖЕТА
E10: (в тыс. рублей)
A11: Наименование показателя | B11: Коды бюджетной классификации | F11: 2015 год | G11: 2016 год
B12: Раздел | C12: Подраздел | D12: Целевая статья | E12: Вид расхода
A14: 1 | B14: 2 | C14: 3 | D14: 4 | E14: 5 | F14: 6 | G14: 7
A15: ОБЩЕГОСУДАРСТВЕННЫЕ ВОПРОСЫ | B15: 01 | F15: =F16+F25+F52+F56+F45+F36+316542.7-2354.4 -> #REF! | G15: =G16+G25+G52+G56+G45+G36+202771.7 -> #REF!
A16: Функционирование законодательных (представительных) органов государственной власти и представительных органов муниципальных образований | B16: 01 | C16: 03 | F16: =F17 -> #REF! | G16: =F16*105% -> #REF!
A17: Руководство и управление в сфере установленных функций органов государственной власти субъектов Российской Федерации и органов местного самоуправления | B17: 01 | C17: 03 | D17: 002 0000 | F17: =F18 -> #REF! | G17: =F17*105% -> #REF!
A18: Центральный аппарат | B18: 01 | C18: 03 | D18: 002 0400 | F18: =F19 -> #REF! | G18: =F18*105% -> #REF!
A19: Центральный аппарат | B19: 01 | C19: 03 | D19: 002 0401 | F19: =F20+F21+F22+F23+F24 -> #REF! | G19: =F19*105% -> #REF!
A20: Фонд оплаты труда и страховые взносы | B20: 01 | C20: 03 | D20: 002 0401 | E20: 121 | F20: =#REF!*105.5% -> #REF! | G20: ='Ведомственная 2015-2016'!H130 -> 6854.3419
A21: Закупка товаров, работ, услуг в целях капитального ремонта государственного (муниципального) имущества | B21: 01 | C21: 03 | D21: 002 0401 | E21: 244 | F21: =#REF!*105.5% -> #REF! | G21: ='Ведомственная 2015-2016'!H132 -> 16.695375
A22: Прочая закупка товаров, работ и услуг для государственных (муниципальных) нужд | B22: 01 | C22: 03 | D22: 002 0401 | E22: 244 | F22: =#REF!*105.5% -> #REF! | G22: ='Ведомственная 2015-2016'!H133 -> #REF!
A23: Уплата налога на имущество организаций и земельного налога | B23: 01 | C23: 03 | D23: 002 0401 | E23: 851 | F23: =#REF!*105.5% -> #REF! | G23: ='Ведомственная 2015-2016'!H134 -> 0
A24: Уплата прочих налогов, сборов и иных платежей | B24: 01 | C24: 03 | D24: 002 0401 | E24: 852 | F24: =#REF!*105.5% -> #REF! | G24: ='Ведомственная 2015-2016'!H135 -> 0
A25: Функционирование Правительства Российской Федерации, высших исполнительных органов государственной власти субъектов Российской Федерации, местных администраций | B25: 01 | C25: 04 | F25: =F26+F34 -> #REF! | G25: =G26+G34 -> #REF!
A26: Руководство и управление в сфере установленных функций органов государственной власти субъектов Российской Федерации и органов местного самоуправления | B26: 01 | C26: 04 | D26: 002 0000 | F26: =F27+F34 -> #REF! | G26: =G27+G34 -> #REF!
A27: Центральный аппарат | B27: 01 | C27: 04 | D27: 002 0400 | F27: =F28 -> #REF! | G27: =F27*105% -> #REF!
A28: Центральный аппарат | B28: 01 | C28: 04 | D28: 002 0401 | F28: =F29+F30+F31+F32+F33 -> #REF! | G28: =F28*105% -> #REF!
A29: Фонд оплаты труда и страховые взносы | B29: 01 | C29: 04 | D29: 002 0401 | E29: 121 | F29: ='Ведомственная 2015-2016'!G19 -> 116635.84 | G29: =F29*105.5% -> 123050.81
A30: Фонд оплаты труда и страховые взносы | B30: 01 | C30: 04 | D30: 002 0401 | E30: 122 | F30: ='Ведомственная 2015-2016'!G20 -> #REF! | G30: =F30*105.5% -> #REF!
A31: Прочая закупка товаров, работ и услуг для государственных (муниципальных) нужд | B31: 01 | C31: 04 | D31: 002 0401 | E31: 244 | F31: ='Ведомственная 2015-2016'!G21 -> 62614.8 | G31: =F31*105.5% -> 66058.614
A32: Уплата налога на имущество организаций и земельного налога | B32: 01 | C32: 04 | D32: 002 0401 | E32: 851 | F32: ='Ведомственная 2015-2016'!G22 -> 1688 | G32: =F32*105.5% -> 1780.84
A33: Уплата прочих налогов, сборов и иных платежей | B33: 01 | C33: 04 | D33: 002 0401 | E33: 852 | F33: ='Ведомственная 2015-2016'!G23 -> #REF! | G33: =F33*105.5% -> #REF!
A34: Глава местной администрации (исполнительно-распорядительного органа муниципального образования) | B34: 01 | C34: 04 | D34: 002 0800 | F34: =F35 -> 8361.8245 | G34: =F34*105.5% -> 8821.7248
A35: Фонд оплаты труда и страховые взносы | B35: 01 | C35: 04 | D35: 002 0800 | E35: 121 | F35: ='Ведомственная 2015-2016'!G25 -> 8361.8245 | G35: =F35*105.5% -> 8821.7248
A36: Обеспечение деятельности финансовых, налоговых и таможенных органов и органов финансового (финансово-бюджетного) надзора | B36: 01 | C36: 06 | F36: 33792.6 | G36: =F36*105.5% -> 35651.193
A37: Руководство и управление в сфере установленных функций органов государственной власти субъектов Российской Федерации и органов местного самоуправления | B37: 01 | C37: 06 | D37: 002 0000 | F37: =F38 -> #REF! | G37: =G38 -> #REF!
A38: Центральный аппарат | B38: 01 | C38: 06 | D38: 002 0400 | F38: =F39 -> #REF! | G38: =F38*105% -> #REF!
A39: Центральный аппарат | B39: 01 | C39: 06 | D39: 002 0401 | F39: =F40+F41+F42+F43+F44 -> #REF! | G39: =G40+G41+G42+G43+G44 -> #REF!
A40: Фонд оплаты труда и страховые взносы | B40: 01 | C40: 06 | D40: 002 0401 | E40: 121 | F40: ='Ведомственная 2015-2016'!G112+'Ведомственная 2015-2016'!G294 -> 18881.757 | G40: =F40*105.5% -> 19920.254
A41: Фонд оплаты труда и страховые взносы | B41: 01 | C41: 06 | D41: 002 0401 | E41: 122 | F41: 417.2 | G41: =F41*105.5% -> 440.146
A42: Прочая закупка товаров, работ и услуг для государственных (муниципальных) нужд | B42: 01 | C42: 06 | D42: 002 0401 | E42: 244 | F42: ='Ведомственная 2015-2016'!G296+'Ведомственная 2015-2016'!G114 -> 3077.323 | G42: =F42*105.5% -> 3246.5758
...

Sheet Программы 2015-2016
A1: Приложение № 6
A2: к решению Совета местного самоуправления
A3: городского округа Нальчик "О местном бюджете
A4: городского округа Нальчик на 2014 год и на
A5: плановый период 2015 и 2016 годов"
E6: №164 от "27" декабря 2013г.
A7: РАСПРЕДЕЛЕНИЕ
A8: БЮДЖЕТНЫХ АССИГНОВАНИЙ НА РЕАЛИЗАЦИЮ МУНИЦИПАЛЬНЫХ ЦЕЛЕВЫХ ПРОГРАММ НА ПЛАНОВЫЙ ПЕРИОД 2015 и 2016 ГОДОВ
G10: (в тыс. рублей)
A11: Наименование показателя | B11: Коды бюджетной классификации | F11: 2013 год | G11: 2015 год | H11: 2016 год
B12: Раздел | C12: Под-раздел | D12: Целевая статья | E12: Вид расхода
A14: 1 | B14: 2 | C14: 3 | D14: 4 | E14: 5 | F14: 6 | G14: 7 | H14: 8
A15: МУНИЦИПАЛЬНЫЕ ЦЕЛЕВЫЕ ПРОГРАММЫ - ВСЕГО | F15: =F18+F24+F30+F35+F40+#REF!+#REF!+F45+F51+F69+#REF!+F74+#REF!+#REF!+#REF!+#REF!+#REF!+#REF!+#REF!+#REF! -> #REF! | G15: =G16+G18+G24+G30+G35+G40+G45+G51+G55+G59+G64+G69+G74 -> 180260.3 | H15: =H18+H24+H30+H35+H40+H45+H51+H55+H59+H64+H69+H74 -> 300
A16: Долгосрочная целевая программа "Профессиональная подготовка, переподготовка и повышение квалификации муниципальных служащих Местной администрации городского округа Нальчик 2013-2015г.г." | B16: 07 | C16: 05 | D16: 436 1893 | F16: =F18 -> #REF! | G16: =G17 -> 400 | H16: =H17 -> 0
A17: ОБЩЕГОСУДАРСТВЕННЫЕ ВОПРОСЫ | B17: 07 | C17: 05 | D17: 436 1893 | F17: =F18 -> #REF! | G17: 400 | H17: 0
A18: Городская целевая программа "Развитие и поддержка малого предпринимательства в городском округе Нальчик на 2012-2015 годы" | F18: =F19 -> #REF! | G18: =G19 -> 4000 | H18: 0
A19: Национальная экономика | B19: 04 | F19: =F20 -> #REF! | G19: =G20 -> 4000 | H19: 0
A20: Другие вопросы в области национальной экономики | B20: 04 | C20: 12 | F20: =F21 -> #REF! | G20: =G21 -> 4000 | H20: 0
A21: Малое предпринимательство | B21: 04 | C21: 12 | D21: 345 0000 | F21: =F22 -> #REF! | G21: =G22 -> 4000 | H21: 0
A22: Субсидии на государственную поддержку малого предпринимательства (средства местного бюджета) | B22: 04 | C22: 12 | D22: 345 0193 | F22: =F23 -> #REF! | G22: =G23 -> 4000 | H22: 0
A23: Субсидии юридическим лицам (кроме государственных учреждений) и физическим лицам - производителям товаров, работ, услуг | B23: 04 | C23: 12 | D23: 345 0193 | E23: 810 | F23: =прил.4!#REF! -> #REF! | G23: 4000 | H23: 0
A24: Городская целевая программа "Молодежь г.Нальчика на 2012-2015 годы" | F24: =F25 -> 750 | G24: =G25 -> 850 | H24: =H25 -> 0
A25: Образование | B25: 07 | F25: =F26 -> 750 | G25: =G26 -> 850 | H25: 0
A26: Молодежная политика и оздоровление детей | B26: 07 | C26: 07 | F26: =F27 -> 750 | G26: =G27 -> 850 | H26: 0
A27: Целевые программы муниципальных образований | B27: 07 | C27: 07 | D27: 795 0000 | F27: =F28 -> 750 | G27: =G28 -> 850 | H27: 0
A28: Целевые программы муниципальных образований | B28: 07 | C28: 07 | D28: 795 0001 | F28: =F29 -> 750 | G28: =G29 -> 850 | H28: 0
A29: Прочая закупка товаров, работ и услуг для государственных (муниципальных) нужд | B29: 07 | C29: 07 | D29: 795 0001 | E29: 244 | F29: 750 | G29: 850 | H29: 0
A30: Муниципальная целевая программа «Развитие культуры городского округа Нальчик на 2012-2015 годы» | F30: =F31 -> 22925 | G30: 4500 | H30: 0
A31: Культура, кинематография | B31: 08 | F31: =F32 -> 22925 | G31: =G32 -> 4500 | H31: 0
A32: Культура | B32: 08 | C32: 01 | F32: =F33 -> 22925 | G32: =G33 -> 4500 | H32: 0
A33: Городская целевая программа"Развитие культуры городского округа Нальчик на 2009-2011 годы" | B33: 08 | C33: 01 | D33: 100 0293 | F33: =F34 -> 22925 | G33: =G34 -> 4500 | H33: 0
A34: Прочая закупка товаров, работ и услуг для государственных (муниципальных) нужд | B34: 08 | C34: 01 | D34: 100 0293 | E34: 244 | F34: 22925 | G34: 4500 | H34: 0
A35: Муниципальная целевая программа «Развитие физической культуры и спорта городского округа Нальчик на 2012-2015 годы» | F35: =F36 -> 3000 | G35: =G36 -> 4000 | H35: 0
A36: Физическая культура и спорт | B36: 11 | F36: =F37 -> 3000 | G36: =G37 -> 4000 | H36: 0
A37: Другие вопросы в области физической культуры и спорта | B37: 11 | C37: 05 | F37: =F38 -> 3000 | G37: =G38 -> 4000 | H37: 0
A38: Городская целевая программа"Развитие физической культуры и спорта городского округа Нальчик на 2009-2011 годы" | B38: 11 | C38: 05 | D38: 100 5893 | F38: =F39 -> 3000 | G38: =G39 -> 4000 | H38: 0
A39: Прочая закупка товаров, работ и услуг для государственных (муниципальных) нужд | B39: 11 | C39: 05 | D39: 100 5893 | E39: 244 | F39: 3000 | G39: 4000 | H39: 0
A40: Подпрограмма "Обеспечение жильем молодых семей в городском округе Нальчик на 2011-2015 годы" | F40: =F42 -> 12900 | G40: =G42 -> 15400 | H40: 0
A41: Социальная политика | B41: 10 | F41: =F42 -> 12900 | G41: =G42 -> 15400 | H41: 0
A42: Социальное обеспечение населения | B42: 10 | C42: 03 | F42: =F43 -> 12900 | G42: =G43 -> 15400 | H42: 0
...

Sheet Ведомственная 2015-2016
A1: Приложение № 8
A2: к решению Совета местного самоуправления городского округа Нальчик
A3: "О местном бюджете городского округа Нальчик на 2014 год
A4: и на плановый период 2015 и 2016 годов"
A5: №164 от "27" декабря 2013г.
A6: ВЕДОМСТВЕННАЯ СТРУКТУРА РАСХОДОВ МЕСТНОГО БЮДЖЕТА НА ПЛАНОВЫЙ ПЕРИОД 2015 И 2016 ГОДОВ
G8: (в тыс.рублей)
A9: Наименование показателя | C9: Коды бюджетной классификации | G9: 2015 год | H9: 2016 год
B10: Гл | C10: Раздел | D10: Под-раздел | E10: Целевая статья | F10: Вид расхода
A12: 1 | B12: 2 | C12: 3 | D12: 4 | E12: 5 | F12: 6 | G12: 7 | H12: 8
A13: МЕСТНАЯ АДМИНИСТРАЦИЯ ГОРОДСКОГО ОКРУГА НАЛЬЧИК | B13: 803 | G13: =G14+G28+G35+G53+G84+G94-159367.5 -> #REF! | H13: =H14+H28+H35+H53+H84+H94-126485.1 -> #REF!
A14: ОБЩЕГОСУДАРСТВЕННЫЕ ВОПРОСЫ | C14: 01 | G14: =G15+G26 -> #REF! | H14: =H15+H26 -> #REF!
A15: Функционирование Правительства Российской Федерации, высших исполнительных органов государственной власти субъектов Российской Федерации, местных администраций | C15: 01 | D15: 04 | G15: =G16+G26 -> #REF! | H15: =H16 -> #REF!
A16: Руководство и управление в сфере установленных функций органов государственной власти субъектов Российской Федерации и органов местного самоуправления | C16: 01 | D16: 04 | E16: 002 0000 | G16: =G17+G24 -> #REF! | H16: =H17+H24 -> #REF!
A17: Центральный аппарат | C17: 01 | D17: 04 | E17: 002 0400 | G17: =G18 -> #REF! | H17: =H18 -> #REF!
A18: Центральный аппарат | C18: 01 | D18: 04 | E18: 002 0401 | G18: =G19+G20+G21+G22+G23 -> #REF! | H18: =H19+H20+H21+H22+H23 -> #REF!
A19: Фонд оплаты труда и страховые взносы | C19: 01 | D19: 04 | E19: 002 0401 | F19: 121 | G19: =прил.4!H27*105.5% -> 116635.84 | H19: =G19*105.5% -> 123050.81
A20: Иные выплаты персоналу, за исключением фонда оплаты труда | C20: 01 | D20: 04 | E20: 0020401 | F20: 122 | G20: =прил.4!#REF!*105.5% -> #REF! | H20: =G20*105% -> #REF!
A21: Прочая закупка товаров, работ и услуг для государственных (муниципальных) нужд | C21: 01 | D21: 04 | E21: 0020401 | F21: 244 | G21: 62614.8 | H21: =G21*105% -> 65745.54
A22: Уплата налога на имущество организаций и земельного налога | C22: 01 | D22: 04 | E22: 0020401 | F22: 851 | G22: =прил.4!H29*105.5% -> 1688 | H22: =G22*105% -> 1772.4
A23: Уплата прочих налогов, сборов и иных платежей | C23: 01 | D23: 04 | E23: 0020401 | F23: 852 | G23: =прил.4!#REF!*105.5% -> #REF! | H23: =G23*105% -> #REF!
A24: Глава местной администрации (исполнительно-распорядительного органа муниципального образования) | C24: 01 | D24: 04 | E24: 002 0800 | G24: =G25 -> 8361.8245 | H24: =H25 -> 8821.7248
A25: Фонд оплаты труда и страховые взносы | C25: 01 | D25: 04 | E25: 002 0800 | F25: 121 | G25: =прил.4!H25*105.5% -> 8361.8245 | H25: =G25*105.5% -> 8821.7248
A26: Муниципальная целевая программа «Противодействие коррупции в городском округе Нальчик на 2014-2016 годы» | C26: 01 | D26: 13 | G26: =G27 -> 50 | H26: =H27 -> 50
A27: Прочая закупка товаров, работ и услуг для государственных (муниципальных) нужд | C27: 01 | D27: 13 | E27: 001 1393 | F27: 244 | G27: 50 | H27: 50
A28: НАЦИОНАЛЬНАЯ БЕЗОПАСНОСТЬ И ПРАВООХРАНИТЕЛЬНАЯ ДЕЯТЕЛЬНОСТЬ | C28: 03 | G28: =G29 -> #REF! | H28: =G28*105% -> #REF!
A29: Защита населения и территорий от последствий чрезвычайных ситуаций природного и техногенного характера | C29: 03 | D29: 09 | E29: 302 9900 | G29: =G30 -> #REF! | H29: =G29*105% -> #REF!
A30: Защита населения и территорий от последствий чрезвычайных ситуаций природного и техногенного характера | C30: 03 | D30: 09 | E30: 302 9900 | G30: =G31+G32+G33+G34 -> #REF! | H30: =H31+H32+H33+H34 -> #REF!
A31: Фонд оплаты труда и страховые взносы | C31: 03 | D31: 09 | E31: 302 9900 | F31: 111 | G31: =прил.4!H57*105.5% -> 17779.071 | H31: =G31*105% -> 18668.025
A32: Прочая закупка товаров, работ и услуг для государственных (муниципальных) нужд | C32: 03 | D32: 09 | E32: 302 9900 | F32: 244 | G32: =прил.4!H58*105.5% -> 2780.2415 | H32: =G32*105% -> 2919.2536
A33: Уплата налога на имущество организаций и земельного налога | C33: 03 | D33: 09 | E33: 302 9900 | F33: 851 | G33: =прил.4!#REF!*105.5% -> #REF! | H33: =G33*105% -> #REF!
A34: Уплата прочих налогов, сборов и иных платежей | C34: 03 | D34: 09 | E34: 302 9900 | F34: 852 | G34: =прил.4!H59*105.5% -> 34.2875 | H34: =G34*105% -> 36.001875
A35: НАЦИОНАЛЬНАЯ ЭКОНОМИКА | C35: 04 | G35: =G36+G41+G49 -> #REF! | H35: =H36+H41+H49 -> #REF!
A36: Транспорт | C36: 04 | D36: 08 | G36: =G37 -> #REF! | H36: =H37 -> #REF!
A37: Учреждения по обеспечению хозяйственного обслуживания | C37: 04 | D37: 08 | E37: 093 9993 | G37: =G38+G39+G40 -> #REF! | H37: =H38+H39+H40 -> #REF!
A38: Фонд оплаты труда и страховые взносы | C38: 04 | D38: 08 | E38: 093 9993 | F38: 111 | G38: =прил.4!#REF!*105.5% -> #REF! | H38: =4039*105.5% -> 4261.145
A39: Прочая закупка товаров, работ и услуг для государственных (муниципальных) нужд | C39: 04 | D39: 08 | E39: 093 9993 | F39: 244 | G39: =прил.4!#REF!*105.5% -> #REF! | H39: =G39*105.5% -> #REF!
A40: Уплата налога на имущество организаций и земельного налога | C40: 04 | D40: 08 | E40: 093 9993 | F40: 851 | G40: =прил.4!#REF!*105.5% -> #REF! | H40: =G40*105.5% -> #REF!
A41: Дорожное хозяйство (дорожные фонды) | C41: 04 | D41: 09 | G41: =G42+G46 -> #REF! | H41: =H42+H46 -> #REF!
A42: Дорожное хозяйство | C42: 04 | D42: 09 | E42: 315 0000 | G42: =G43 -> 342579.9 | H42: =G42*105% -> 359708.89
...

Sheet Прил №9
B1: Приложение № 9
A2: к решению Совета местного самоуправления городского округа Нальчик
A3: "О местном бюджете городского округа Нальчик на 2014 год и на
A4: плановый период 2015 и 2016 годов"
A5: №164 от "27" декабря 2013г.
A6: ИСТОЧНИКИ ФИНАНСИРОВАНИЯ ДЕФИЦИТА МЕСТНОГО БЮДЖЕТА НА 2014 ГОД
C10: (в тыс. руб.)
A11: Код бюджетной классификации Российской Федерации | B11: Вид заимствования | C11: Сумма
A12: 1 | B12: 2 | C12: 3
A13: 000 01 02 00 00 04 0000 710 | B13: Получение кредитов от кредитных организаций бюджетом городского округа в валюте Российской Федерации | C13: 0
A14: 000 01 02 00 00 04 0000 810 | B14: Погашение бюджетом городского округа кредитов от кредитных организаций в валюте Российской Федерации | C14: 0
A15: 000 01 03 00 00 04 0000 710 | B15: Получение бюджетных кредитов от других бюджетов бюджетной системы Российской Федерации бюджетом городского округа в валюте Российской Федерации | C15: 0
A16: 000 01 03 00 00 04 0000 810 | B16: Погашение бюджетом городского округа бюджетных кредитов от других бюджетов бюджетной системы Российской Федерации в валюте Российской Федерации | C16: 0
A17: 000 01 05 02 01 04 0000 510 | B17: Увеличение прочих остатков денежных средств бюджета городского округа | C17: 0
A18: 000 01 05 02 01 04 0000 610 | B18: Уменьшение прочих остатков денежных средств бюджета городского округа | C18: 0
A19: 000 01 06 01 00 04 0000 630 | B19: Средства от продажи акций и иных форм участия в капитале, находящихся в собственности бюджетов городских округов | C19: 73000
B20: ИТОГО: | C20: =C13-C14+C15-C16+C17+C18+C19 -> 73000
A23: Заместитель Главы городского округа Нальчик | C23: В.Б.Назранов

Sheet Прил №11
A1: Приложение № 11
A2: к решению Совета местного самоуправления городского округа Нальчик
A3: "О местном бюджете городского округа Нальчик на 2014 год и на
A4: плановый период 2015 и 2016 годов"
A5: №164 от "27" декабря 2013г.
A6: ПРОГРАММА МУНИЦИПАЛЬНЫХ ВНУТРЕННИХ ЗАИМСТВОВАНИЙ НА 2014 ГОД И ПЛАНОВЫЙ ПЕРИОД 2015 - 2016 ГОДОВ
D10: (в тыс.рублях)
A11: Код бюджетной классификации Российской Федерации | B11: Вид заимствования | C11: 2014 год | D11: 2015 год | E11: 2016 год
A12: 1 | B12: 2 | C12: 3 | D12: 3
A13: 000 01 03 00 00 04 0000 810 | B13: Погашение бюджетом городского округа бюджетных кредитов от других бюджетов бюджетной системы Российской Федерации в валюте Российской Федерации | C13: 0 | D13: 62816.3 | E13: 0
A14: Общий объем заимствований, направляемых на покрытие дефицита местного бюджета и погашение муниципальных долговых обязательств | C14: 0 | D14: 0 | E14: 0
A18: Заместитель Главы городского округа Нальчик | D18: В.Б. Назранов

Sheet Прил.№2 к Сред.срочн.плану
F1: Приложение №2
E2: к среднесрочному финансовому плану
F3: городского округа Нальчик на 2013-2015 годы
A5: ОБЪЕМЫ БЮДЖЕТНЫХ АССИГНОВАНИЙ ПО ГЛАВНЫМ РАСПОРЯДИТЕЛЯМ БЮДЖЕТНЫХ СРЕДСТВ,РАЗДЕЛАМ,ПОДРАЗДЕЛАМ,ЦЕЛЕВЫМ СТАТЬЯМ И ВИДАМ РАСХОДОВ КЛАССИФИКАЦИИ РАСХОДОВ БЮДЖЕТА
G7: (в тыс.рублей)
A9: Наименование показателя | C9: Коды бюджетной классификации | G9: Текущий финансовый год | H9: Прогноз
B10: Гл | C10: Раздел | D10: Под-раздел | E10: Целевая статья | F10: Вид расхода | H10: 2013 | I10: 2014 | J10: 2015
A12: 1 | B12: 2 | C12: 3 | D12: 4 | E12: 5 | F12: 6 | G12: 7 | H12: 8 | I12: 9 | J12: 10
A13: МЕСТНАЯ АДМИНИСТРАЦИЯ ГОРОДСКОГО ОКРУГА НАЛЬЧИК | B13: 803 | G13: =G14+G37+G48+G67+G105+G111 -> 877234.1 | H13: =754780.9+7549 -> 762329.9 | I13: 876117.5 | J13: 693740.3
A14: ОБЩЕГОСУДАРСТВЕННЫЕ ВОПРОСЫ | C14: 01 | G14: =G15+G33 -> 117739 | H14: =H15+H33 -> 106834.8 | I14: =I15+I33 -> 112172.8 | J14: =J15+J33 -> 117781.44
A15: Функционирование Правительства Российской Федерации, высших исполнительных органов государственной власти субъектов Российской Федерации, местных администраций | C15: 01 | D15: 04 | G15: =G16+G26+G28 -> 117629 | H15: =H16 -> 106724.8 | I15: 112172.8 | J15: =I15*105% -> 117781.44
A16: Руководство и управление в сфере установленных функций органов государственной власти субъектов Российской Федерации и органов местного самоуправления | C16: 01 | D16: 04 | E16: 002 0000 | G16: =G17 -> 115674.5 | H16: =H17+H26+H30 -> 106724.8 | I16: 112172.8 | J16: =I16*105% -> 117781.44
A17: Центральный аппарат | C17: 01 | D17: 04 | E17: 002 0400 | G17: =G18 -> 115674.5 | H17: =H18 -> 104781.1 | I17: =H17*105.5% -> 110544.06 | J17: =I17*105% -> 116071.26
A18: Центральный аппарат | C18: 01 | D18: 04 | E18: 002 0401 | G18: =SUM(G19:G25) -> 115674.5 | H18: =SUM(H19:H25) -> 104781.1 | I18: =H18*105.5% -> 110544.06 | J18: =I18*105% -> 116071.26
A19: Фонд оплаты труда и страховые взносы | C19: 01 | D19: 04 | E19: 002 0401 | F19: 121 | G19: 81049.3 | H19: 84796.2 | I19: =H19*105.5% -> 89459.991 | J19: =I19*105% -> 93932.991
A20: Иные выплаты персоналу, за исключением фонда оплаты труда | C20: 01 | D20: 04 | E20: 002 0401 | F20: 122 | G20: 953.3 | H20: 566 | I20: =H20*105.5% -> 597.13 | J20: =I20*105% -> 626.9865
A21: Закупка товаров, работ, услуг в сфере информационно-коммуникационных технологий | C21: 01 | D21: 04 | E21: 002 0401 | F21: 242 | G21: 3273.2 | H21: 4232 | I21: =H21*105.5% -> 4464.76 | J21: =I21*105% -> 4687.998
A22: Закупка товаров, работ, услуг в целях капитального ремонта государственного (муниципального) имущества | C22: 01 | D22: 04 | E22: 0020401 | F22: 243 | G22: 0 | H22: 448.5 | I22: =H22*105.5% -> 473.1675 | J22: =I22*105% -> 496.82587
A23: Прочая закупка товаров, работ и услуг для государственных (муниципальных) нужд | C23: 01 | D23: 04 | E23: 002 0401 | F23: 244 | G23: =28354.8+294.8 -> 28649.6 | H23: =13695.8-400 -> 13295.8 | I23: =H23*105.5% -> 14027.069 | J23: =I23*105% -> 14728.422
A24: Уплата налога наимущество организаци и земельного налога | C24: 01 | D24: 04 | E24: 002 0401 | F24: 851 | G24: 772.8 | H24: 391.9 | I24: =H24*105.5% -> 413.4545 | J24: =I24*105% -> 434.12722
A25: Уплата прочих налогов, сборов и иных платежей | C25: 01 | D25: 04 | E25: 002 0401 | F25: 852 | G25: 976.3 | H25: 1050.7 | I25: =H25*105.5% -> 1108.4885 | J25: =I25*105% -> 1163.9129
A26: Глава местной администрации (исполнительно-распорядительного органа муниципального образования) | C26: 01 | D26: 04 | E26: 002 0800 | G26: =G27 -> 1389.5 | H26: =H27 -> 1543.7 | I26: =H26*105.5% -> 1628.6035 | J26: =I26*105% -> 1710.0337
A27: Фонд оплаты труда и страховые взносы | C27: 01 | D27: 04 | E27: 002 0800 | F27: 121 | G27: 1389.5 | H27: 1543.7 | I27: =H27*105.5% -> 1628.6035 | J27: =I27*105% -> 1710.0337
A28: Резервные фрнды местных администрации | C28: 01 | D28: 04 | E28: 0700500 | G28: =G29 -> 565 | H28: 0 | I28: 0 | J28: 0
A29: Прочая закупка товаров, работ и услуг для государственных (муниципальных) нужд | C29: 01 | D29: 04 | E29: 0700500 | F29: 244 | G29: 565 | H29: 0 | I29: 0 | J29: 0
A30: Центральный аппарат | C30: 01 | D30: 04 | H30: =H31 -> 400 | I30: 400 | J30: 400
A31: Долгосрочная целевая программа "Профессиональная подготовка, переподготовка и повышение квалификации муниципальных служащих Местной администрации г.о.Нальчик 2013-2015г.г." | C31: 01 | D31: 04 | E31: 7950001 | G31: 0 | H31: =H32 -> 400 | I31: =I32 -> 400 | J31: =J32 -> 400
A32: Прочая закупка товаров, работ и услуг для государственных (муниципальных) нужд | C32: 01 | D32: 04 | E32: 7950001 | F32: 244 | G32: 0 | H32: 400 | I32: 400 | J32: 400
A33: Другие общегосударственные вопросы | C33: 01 | D33: 13 | G33: =G34 -> 110 | H33: =H34 -> 110 | I33: 0 | J33: =I33*105% -> 0
A34: Муниципальная целевая программа «Противодействие коррупции в городском округе Нальчик на 2011-2013 годы» | C34: 01 | D34: 13 | E34: 001 1393 | G34: =G35 -> 110 | H34: =H35 -> 110 | I34: 0 | J34: =I34*105% -> 0
A35: Прочая закупка товаров, работ и услуг для государственных (муниципальных) нужд | C35: 01 | D35: 13 | E35: 001 1393 | F35: 244 | G35: 110 | H35: 110 | I35: 0 | J35: =I35*105% -> 0
A36: НАЦИОНАЛЬНАЯ БЕЗОПАСНОСТЬ И ПРАВООХРАНИТЕЛЬНАЯ ДЕЯТЕЛЬНОСТЬ | C36: 03 | G36: =G37 -> 10744.4 | H36: =H38+H41 -> 11879.6 | I36: =H36*105.5% -> 12532.978 | J36: =I36*105% -> 13159.627
